BEGIN:VCALENDAR
PRODID:-//AT Content Types//AT Event//EN
VERSION:2.0
METHOD:PUBLISH
BEGIN:VEVENT
DTSTAMP:20260420T183000Z
CREATED:20121214T062304Z
UID:ATEvent-371de0520f20a8f90b0dc862a7978621
LAST-MODIFIED:20121214T062304Z
SUMMARY:Seminários UML - Parte 2
DTSTART:20121221T080000Z
DTEND:20121221T100000Z
DESCRIPTION:Seminário com objetivo de gerar discussões em relação 
 aos diferentes diagramas UML (parte 2).
LOCATION:CEGOE - Lab 01
CLASS:PUBLIC
END:VEVENT
END:VCALENDAR
