BEGIN:VCALENDAR
PRODID:-//AT Content Types//AT Event//EN
VERSION:1.0
BEGIN:VEVENT
DTSTART:20120321T100000Z
DTEND:20120321T120000Z
DCREATED:20120314T070324Z
UID:ATEvent-a8fb9fc8191d0e75329b4ff3e712882e
SEQUENCE:0
LAST-MODIFIED:20120314T071908Z
SUMMARY:Seminário - UML  (parte 1)
DESCRIPTION:Seminário com objetivo de gerar discussões em relação 
 aos diferentes diagramas UML (parte 1).
LOCATION:Lab 1 - CEGOE
PRIORITY:3
TRANSP:0
END:VEVENT
END:VCALENDAR
