BEGIN:VCALENDAR
PRODID:-//AT Content Types//AT Event//EN
VERSION:1.0
BEGIN:VEVENT
DTSTART:20120323T080000Z
DTEND:20120323T100000Z
DCREATED:20120314T071815Z
UID:ATEvent-690441a09e3e915456475da0db54ca9c
SEQUENCE:0
LAST-MODIFIED:20120314T071815Z
SUMMARY:Seminário - UML (parte 2)
DESCRIPTION:Seminário com objetivo de gerar discussões em relação 
 aos diferentes diagramas UML (parte 2).
LOCATION:Lab 1 - CEGOE
PRIORITY:3
TRANSP:0
END:VEVENT
END:VCALENDAR
