BEGIN:VCALENDAR
PRODID:-//AT Content Types//AT Event//EN
VERSION:1.0
BEGIN:VEVENT
DTSTART:20120702T080000Z
DTEND:20120702T100000Z
DCREATED:20120626T045832Z
UID:ATEvent-70211bebedede932b8d258803113c783
SEQUENCE:0
LAST-MODIFIED:20120629T105730Z
SUMMARY:Prova Final
DESCRIPTION:Assuntos\: todo material disponível em BSI e aspectos de 
 implementação dos respectivos projetos.
LOCATION:LEC-DM
PRIORITY:3
TRANSP:0
END:VEVENT
END:VCALENDAR
