BEGIN:VCALENDAR
PRODID:-//AT Content Types//AT Event//EN
VERSION:1.0
BEGIN:VEVENT
DTSTART:20120411T100000Z
DTEND:20120411T120000Z
DCREATED:20120404T064704Z
UID:ATEvent-64b0de5cff574bfff9185985ec760086
SEQUENCE:0
LAST-MODIFIED:20120404T064704Z
SUMMARY:Atividade do Repositório
DESCRIPTION:Apresentação das informações do repositório - google 
 code.
LOCATION:CEGOE - Lab 1
PRIORITY:3
TRANSP:0
END:VEVENT
END:VCALENDAR
